BEGIN:VCALENDAR
VERSION:2.0
PRODID:-//თბილისის სახელმწიფო კონსერვატორია | TSC - ECPv5.14.0.4//NONSGML v1.0//EN
CALSCALE:GREGORIAN
METHOD:PUBLISH
X-WR-CALNAME:თბილისის სახელმწიფო კონსერვატორია | TSC
X-ORIGINAL-URL:https://tsc.edu.ge
X-WR-CALDESC:Events for თბილისის სახელმწიფო კონსერვატორია | TSC
BEGIN:VTIMEZONE
TZID:UTC
BEGIN:STANDARD
TZOFFSETFROM:+0000
TZOFFSETTO:+0000
TZNAME:UTC
DTSTART:20210101T000000
END:STANDARD
END:VTIMEZONE
BEGIN:VEVENT
DTSTART;TZID=UTC:20211108T060000
DTEND;TZID=UTC:20211108T193000
DTSTAMP:20260420T051328
CREATED:20211106T093112Z
LAST-MODIFIED:20211106T093428Z
UID:15223-1636351200-1636399800@tsc.edu.ge
SUMMARY:კამერული მუსიკის XV ფესტივალი
DESCRIPTION:თბილისის ზაქარია ფალიაშვილის სახ. ცენტრალური სამუსიკო  სკოლის  „ნიჭიერთა ათწლედი“ მოსწავლეთა კონცერტი.
URL:https://tsc.edu.ge/tscevent/%e1%83%99%e1%83%90%e1%83%9b%e1%83%94%e1%83%a0%e1%83%a3%e1%83%9a%e1%83%98-%e1%83%9b%e1%83%a3%e1%83%a1%e1%83%98%e1%83%99%e1%83%98%e1%83%a1-xv-%e1%83%a4%e1%83%94%e1%83%a1%e1%83%a2%e1%83%98%e1%83%95/
LOCATION:კონსერვატორიის მცირე დარბაზი
CATEGORIES:ფესტივალები
ATTACH;FMTTYPE=image/jpeg:https://tsc.edu.ge/wp-content/uploads/2021/11/8-noemberi-2.jpg
END:VEVENT
END:VCALENDAR