BEGIN:VCALENDAR
VERSION:2.0
PRODID:-//თბილისის სახელმწიფო კონსერვატორია | TSC - ECPv5.14.0.4//NONSGML v1.0//EN
CALSCALE:GREGORIAN
METHOD:PUBLISH
X-WR-CALNAME:თბილისის სახელმწიფო კონსერვატორია | TSC
X-ORIGINAL-URL:https://tsc.edu.ge
X-WR-CALDESC:Events for თბილისის სახელმწიფო კონსერვატორია | TSC
BEGIN:VTIMEZONE
TZID:Asia/Dubai
BEGIN:STANDARD
TZOFFSETFROM:+0400
TZOFFSETTO:+0400
TZNAME:+04
DTSTART:20210101T000000
END:STANDARD
END:VTIMEZONE
BEGIN:VEVENT
DTSTART;TZID=Asia/Dubai:20210413T200000
DTEND;TZID=Asia/Dubai:20210413T210000
DTSTAMP:20260419T154549
CREATED:20210413T172222Z
LAST-MODIFIED:20210506T204421Z
UID:11194-1618344000-1618347600@tsc.edu.ge
SUMMARY:სოლო აკადემიური მიმართულების კონცერტი
DESCRIPTION:მონაწილეობენ: \nბიჭიკო ბეჟიტაშვილი\nბაჩანა ტიტვინიძე\nგორდა გაბუნია\nანა იმედაშვილი\nანა ფალავანდიშვილი \nასოცირებული პროფესორ თენგიზ ჩაჩავას კლასი \nკონცერტმაისტერები – ნინო წულუკიძე\, მარიან ჭანიშვილი
URL:https://tsc.edu.ge/tscevent/%e1%83%a1%e1%83%9d%e1%83%9a%e1%83%9d-%e1%83%90%e1%83%99%e1%83%90%e1%83%93%e1%83%94%e1%83%9b%e1%83%98%e1%83%a3%e1%83%a0%e1%83%98-%e1%83%9b%e1%83%98%e1%83%9b%e1%83%90%e1%83%a0%e1%83%97%e1%83%a3%e1%83%9a/
CATEGORIES:კონცერტები/სპექტაკლები
ATTACH;FMTTYPE=image/jpeg:https://tsc.edu.ge/wp-content/uploads/2021/04/event-13-april.jpg
END:VEVENT
END:VCALENDAR